BEGIN:VCALENDAR
VERSION:2.0
PRODID:icalendar-ruby
CALSCALE:GREGORIAN
BEGIN:VEVENT
DTSTAMP:20260424T081401Z
UID:aafe5766-bb1b-4c50-85de-d27d97edf596
DTSTART;VALUE=DATE:20250709
DESCRIPTION:Property ID# 593996\, Locatoin: Harcourts Auction Room\, 1 Thir
 d Ave\, Tauranga (unless sold prior)\, Time: 11:30AM
SUMMARY:Auction for 
END:VEVENT
END:VCALENDAR
