BEGIN:VCALENDAR
VERSION:2.0
PRODID:icalendar-ruby
CALSCALE:GREGORIAN
BEGIN:VEVENT
DTSTAMP:20260420T082207Z
UID:6c9429a8-a178-4187-9d49-f9bcf42350ab
DTSTART;VALUE=DATE:20250501
DESCRIPTION:Property ID# 590633\, Locatoin: EVES Auction Rooms\, 247 Camero
 n Road Tauranga\, Time: 1:00PM
SUMMARY:Auction for 
END:VEVENT
END:VCALENDAR
