BEGIN:VCALENDAR
VERSION:2.0
PRODID:icalendar-ruby
CALSCALE:GREGORIAN
BEGIN:VEVENT
DTSTAMP:20260420T082201Z
UID:d69daf5e-7520-43b7-a7e4-ab293b8a9c0b
DTSTART;VALUE=DATE:20240822
DESCRIPTION:Property ID# 578583\, Locatoin: Auction Rooms\, 247 Cameron Roa
 d\, Tauranga. Unless sold prior\, Time: 1:00PM
SUMMARY:Auction for 
END:VEVENT
END:VCALENDAR
